Package: MSstatsResponse Version: 0.99.2 Command: /Library/Frameworks/R.framework/Resources/bin/R CMD build --keep-empty-dirs --no-resave-data MSstatsResponse StartedAt: 2025-10-26 17:19:20 -0400 (Sun, 26 Oct 2025) EndedAt: 2025-10-26 17:19:43 -0400 (Sun, 26 Oct 2025) EllapsedTime: 23.3 seconds RetCode: 0 Status: OK PackageFile: MSstatsResponse_0.99.2.tar.gz PackageFileSize: 8.143 MiB