Package: MSstatsResponse Version: 0.99.2 Command: rm -rf MSstatsResponse.buildbin-libdir && mkdir MSstatsResponse.buildbin-libdir && /Users/biocbuild/BBS/utils/build-universal.sh MSstatsResponse_0.99.2.tar.gz /Library/Frameworks/R.framework/Resources/bin/R MSstatsResponse.buildbin-libdir StartedAt: 2025-10-27 23:11:07 -0400 (Mon, 27 Oct 2025) EndedAt: 2025-10-27 23:11:10 -0400 (Mon, 27 Oct 2025) EllapsedTime: 3.1 seconds RetCode: 0 Status: OK PackageFile: MSstatsResponse_0.99.2.tgz PackageFileSize: 8.207 MiB