Package: MSstatsQCgui Version: 1.29.0 Command: chmod a+r MSstatsQCgui -R && F:\biocbuild\bbs-3.22-bioc\R\bin\R.exe CMD build --keep-empty-dirs --no-resave-data MSstatsQCgui StartedAt: 2025-08-14 21:46:44 -0400 (Thu, 14 Aug 2025) EndedAt: 2025-08-14 21:47:36 -0400 (Thu, 14 Aug 2025) EllapsedTime: 52.2 seconds RetCode: 0 Status: OK PackageFile: MSstatsQCgui_1.29.0.tar.gz PackageFileSize: 75.41 KiB