Package: MSstatsQCgui Version: 1.29.0 Command: rm -rf MSstatsQCgui.buildbin-libdir && mkdir MSstatsQCgui.buildbin-libdir && F:\biocbuild\bbs-3.22-bioc\R\bin\R.exe CMD INSTALL --build --library=MSstatsQCgui.buildbin-libdir MSstatsQCgui_1.29.0.tar.gz StartedAt: 2025-08-15 10:47:18 -0400 (Fri, 15 Aug 2025) EndedAt: 2025-08-15 10:48:23 -0400 (Fri, 15 Aug 2025) EllapsedTime: 65.0 seconds RetCode: 0 Status: OK PackageFile: MSstatsQCgui_1.29.0.zip PackageFileSize: 93 KiB