Package: MSstatsQCgui Version: 1.30.0 Command: /Library/Frameworks/R.framework/Resources/bin/R CMD build --keep-empty-dirs --no-resave-data MSstatsQCgui StartedAt: 2025-11-03 17:57:22 -0500 (Mon, 03 Nov 2025) EndedAt: 2025-11-03 17:58:18 -0500 (Mon, 03 Nov 2025) EllapsedTime: 55.6 seconds RetCode: 0 Status: OK PackageFile: MSstatsQCgui_1.30.0.tar.gz PackageFileSize: 75.36 KiB