Package: MSstatsQCgui Version: 1.30.0 Maintainer: Eralp Dogu MaintainerEmail: eralp.dogu at gmail.com git_url: https://git.bioconductor.org/packages/MSstatsQCgui git_branch: RELEASE_3_22 git_last_commit: 7b4256b git_last_commit_date: 2025-10-29 10:45:14 -0400 (Wed, 29 Oct 2025)