Package: MSstatsQC Version: 2.27.0 Command: /home/biocbuild/bbs-3.22-bioc/R/bin/R CMD INSTALL MSstatsQC StartedAt: 2025-10-19 15:37:50 -0400 (Sun, 19 Oct 2025) EndedAt: 2025-10-19 15:38:30 -0400 (Sun, 19 Oct 2025) EllapsedTime: 39.9 seconds RetCode: 0 Status: OK