Package: MSstatsQC Version: 2.27.0 Command: /Library/Frameworks/R.framework/Resources/bin/R CMD check --install=check:MSstatsQC.install-out.txt --library=/Library/Frameworks/R.framework/Resources/library --no-vignettes --timings MSstatsQC_2.27.0.tar.gz StartedAt: 2025-10-20 00:06:35 -0400 (Mon, 20 Oct 2025) EndedAt: 2025-10-20 00:12:33 -0400 (Mon, 20 Oct 2025) EllapsedTime: 358.1 seconds RetCode: 0 Status: OK CheckDir: MSstatsQC.Rcheck Warnings: 0