Package: MSstatsQC Version: 2.27.0 Command: /Library/Frameworks/R.framework/Resources/bin/R CMD INSTALL MSstatsQC StartedAt: 2025-10-19 15:21:22 -0400 (Sun, 19 Oct 2025) EndedAt: 2025-10-19 15:21:39 -0400 (Sun, 19 Oct 2025) EllapsedTime: 16.6 seconds RetCode: 0 Status: OK