Package: MSstatsPTM Version: 2.11.5 Command: /home/biocbuild/R/R/bin/R CMD INSTALL MSstatsPTM StartedAt: 2025-10-20 20:38:39 -0000 (Mon, 20 Oct 2025) EndedAt: 2025-10-20 20:39:18 -0000 (Mon, 20 Oct 2025) EllapsedTime: 38.6 seconds RetCode: 0 Status: OK