Package: MSstatsPTM Version: 2.11.5 Command: /home/biocbuild/bbs-3.22-bioc/R/bin/R CMD INSTALL MSstatsPTM StartedAt: 2025-10-19 15:26:16 -0400 (Sun, 19 Oct 2025) EndedAt: 2025-10-19 15:26:42 -0400 (Sun, 19 Oct 2025) EllapsedTime: 26.1 seconds RetCode: 0 Status: OK