Package: MSstatsPTM Version: 2.11.5 Command: /Library/Frameworks/R.framework/Resources/bin/R CMD INSTALL MSstatsPTM StartedAt: 2025-10-28 15:20:19 -0400 (Tue, 28 Oct 2025) EndedAt: 2025-10-28 15:20:56 -0400 (Tue, 28 Oct 2025) EllapsedTime: 37.4 seconds RetCode: 0 Status: OK