Package: MSstatsPTM Version: 2.11.5 Command: /Library/Frameworks/R.framework/Resources/bin/R CMD INSTALL MSstatsPTM StartedAt: 2025-10-20 15:08:41 -0400 (Mon, 20 Oct 2025) EndedAt: 2025-10-20 15:08:51 -0400 (Mon, 20 Oct 2025) EllapsedTime: 10.3 seconds RetCode: 0 Status: OK