Package: MSstatsPTM Version: 2.11.5 Command: /Library/Frameworks/R.framework/Resources/bin/R CMD build --keep-empty-dirs --no-resave-data MSstatsPTM StartedAt: 2025-10-19 17:07:30 -0400 (Sun, 19 Oct 2025) EndedAt: 2025-10-19 17:07:59 -0400 (Sun, 19 Oct 2025) EllapsedTime: 29.4 seconds RetCode: 0 Status: OK PackageFile: MSstatsPTM_2.11.5.tar.gz PackageFileSize: 2.881 MiB