Package: MSstatsLOBD Version: 1.17.0 Command: F:\biocbuild\bbs-3.22-bioc\R\bin\R.exe CMD check --no-multiarch --install=check:MSstatsLOBD.install-out.txt --library=F:\biocbuild\bbs-3.22-bioc\R\library --no-vignettes --timings MSstatsLOBD_1.17.0.tar.gz StartedAt: 2025-08-15 05:37:44 -0400 (Fri, 15 Aug 2025) EndedAt: 2025-08-15 05:38:36 -0400 (Fri, 15 Aug 2025) EllapsedTime: 51.6 seconds RetCode: 0 Status: OK CheckDir: MSstatsLOBD.Rcheck Warnings: 0