Package: MSstatsConvert Version: 1.19.1 Command: F:\biocbuild\bbs-3.22-bioc\R\bin\R.exe CMD INSTALL MSstatsConvert StartedAt: 2025-08-14 15:17:45 -0400 (Thu, 14 Aug 2025) EndedAt: 2025-08-14 15:19:24 -0400 (Thu, 14 Aug 2025) EllapsedTime: 98.5 seconds RetCode: 0 Status: OK