Package: MSstatsBioNet Version: 1.1.7 Command: /home/biocbuild/R/R/bin/R CMD check --install=check:MSstatsBioNet.install-out.txt --library=/home/biocbuild/R/R/site-library --no-vignettes --timings MSstatsBioNet_1.1.7.tar.gz StartedAt: 2025-10-17 11:26:45 -0000 (Fri, 17 Oct 2025) EndedAt: 2025-10-17 11:28:20 -0000 (Fri, 17 Oct 2025) EllapsedTime: 95.1 seconds RetCode: 0 Status: OK CheckDir: MSstatsBioNet.Rcheck Warnings: 0