Package: MSstatsBioNet Version: 1.1.4 Command: F:\biocbuild\bbs-3.22-bioc\R\bin\R.exe CMD check --no-multiarch --install=check:MSstatsBioNet.install-out.txt --library=F:\biocbuild\bbs-3.22-bioc\R\library --no-vignettes --timings MSstatsBioNet_1.1.4.tar.gz StartedAt: 2025-08-15 05:36:28 -0400 (Fri, 15 Aug 2025) EndedAt: 2025-08-15 05:38:14 -0400 (Fri, 15 Aug 2025) EllapsedTime: 105.6 seconds RetCode: 0 Status: OK CheckDir: MSstatsBioNet.Rcheck Warnings: 0