Package: MSstatsBioNet Version: 1.1.7 Command: /Library/Frameworks/R.framework/Resources/bin/R CMD INSTALL MSstatsBioNet StartedAt: 2025-10-19 15:17:53 -0400 (Sun, 19 Oct 2025) EndedAt: 2025-10-19 15:18:09 -0400 (Sun, 19 Oct 2025) EllapsedTime: 15.5 seconds RetCode: 0 Status: OK