Package: MSstatsBioNet Version: 1.1.7 Command: /Library/Frameworks/R.framework/Resources/bin/R CMD INSTALL MSstatsBioNet StartedAt: 2025-10-20 15:31:10 -0400 (Mon, 20 Oct 2025) EndedAt: 2025-10-20 15:31:16 -0400 (Mon, 20 Oct 2025) EllapsedTime: 6.2 seconds RetCode: 0 Status: OK