Package: MSstats Version: 4.17.2 Command: /home/biocbuild/R/R/bin/R CMD INSTALL MSstats StartedAt: 2025-10-16 21:22:44 -0000 (Thu, 16 Oct 2025) EndedAt: 2025-10-16 21:23:48 -0000 (Thu, 16 Oct 2025) EllapsedTime: 64.2 seconds RetCode: 0 Status: OK