Package: MSstats Version: 4.17.2 Command: /home/biocbuild/bbs-3.22-bioc/R/bin/R CMD INSTALL MSstats StartedAt: 2025-10-19 15:12:45 -0400 (Sun, 19 Oct 2025) EndedAt: 2025-10-19 15:13:29 -0400 (Sun, 19 Oct 2025) EllapsedTime: 43.9 seconds RetCode: 0 Status: OK