Package: MSstats Version: 4.17.2 Command: /home/biocbuild/bbs-3.22-bioc/R/bin/R CMD check --install=check:MSstats.install-out.txt --library=/home/biocbuild/bbs-3.22-bioc/R/site-library --timings MSstats_4.17.2.tar.gz StartedAt: 2025-10-20 02:25:51 -0400 (Mon, 20 Oct 2025) EndedAt: 2025-10-20 02:28:18 -0400 (Mon, 20 Oct 2025) EllapsedTime: 147.1 seconds RetCode: 0 Status: WARNINGS CheckDir: MSstats.Rcheck Warnings: 1