Package: MSstats Version: 4.17.2 Command: /home/biocbuild/bbs-3.22-bioc/R/bin/R CMD build --keep-empty-dirs --no-resave-data --md5 MSstats StartedAt: 2025-10-19 18:54:34 -0400 (Sun, 19 Oct 2025) EndedAt: 2025-10-19 18:55:48 -0400 (Sun, 19 Oct 2025) EllapsedTime: 74.1 seconds RetCode: 0 Status: OK PackageFile: MSstats_4.17.2.tar.gz PackageFileSize: 525.8 KiB