Package: MSstats Version: 4.17.2 Command: /Library/Frameworks/R.framework/Resources/bin/R CMD INSTALL MSstats StartedAt: 2025-10-19 15:06:29 -0400 (Sun, 19 Oct 2025) EndedAt: 2025-10-19 15:06:42 -0400 (Sun, 19 Oct 2025) EllapsedTime: 12.9 seconds RetCode: 0 Status: OK