Package: MSstats Version: 4.17.2 Command: /Library/Frameworks/R.framework/Resources/bin/R CMD check --install=check:MSstats.install-out.txt --library=/Library/Frameworks/R.framework/Resources/library --no-vignettes --timings MSstats_4.17.2.tar.gz StartedAt: 2025-10-19 20:54:06 -0400 (Sun, 19 Oct 2025) EndedAt: 2025-10-19 20:54:55 -0400 (Sun, 19 Oct 2025) EllapsedTime: 49.6 seconds RetCode: 0 Status: WARNINGS CheckDir: MSstats.Rcheck Warnings: 1