Package: MSstats Version: 4.17.2 Command: /Library/Frameworks/R.framework/Resources/bin/R CMD build --keep-empty-dirs --no-resave-data MSstats StartedAt: 2025-10-19 17:07:00 -0400 (Sun, 19 Oct 2025) EndedAt: 2025-10-19 17:07:30 -0400 (Sun, 19 Oct 2025) EllapsedTime: 30.3 seconds RetCode: 0 Status: OK PackageFile: MSstats_4.17.2.tar.gz PackageFileSize: 580.2 KiB