Package: MSstats Version: 4.17.2 Command: rm -rf MSstats.buildbin-libdir && mkdir MSstats.buildbin-libdir && /Users/biocbuild/BBS/utils/build-universal.sh MSstats_4.17.2.tar.gz /Library/Frameworks/R.framework/Resources/bin/R MSstats.buildbin-libdir StartedAt: 2025-10-19 23:07:59 -0400 (Sun, 19 Oct 2025) EndedAt: 2025-10-19 23:08:14 -0400 (Sun, 19 Oct 2025) EllapsedTime: 15.3 seconds RetCode: 0 Status: OK PackageFile: MSstats_4.17.2.tgz PackageFileSize: 1.057 MiB