Package: MSnbase Version: 2.35.2 Command: /home/biocbuild/R/R/bin/R CMD INSTALL MSnbase StartedAt: 2025-10-20 20:52:25 -0000 (Mon, 20 Oct 2025) EndedAt: 2025-10-20 20:54:07 -0000 (Mon, 20 Oct 2025) EllapsedTime: 101.5 seconds RetCode: 0 Status: OK