Package: MSnbase Version: 2.35.2 Command: /home/biocbuild/bbs-3.22-bioc/R/bin/R CMD INSTALL MSnbase StartedAt: 2025-10-22 15:35:49 -0400 (Wed, 22 Oct 2025) EndedAt: 2025-10-22 15:37:04 -0400 (Wed, 22 Oct 2025) EllapsedTime: 75.4 seconds RetCode: 0 Status: OK