Package: MSnbase Version: 2.35.2 Command: /home/biocbuild/bbs-3.22-bioc/R/bin/R CMD build --keep-empty-dirs --no-resave-data --md5 MSnbase StartedAt: 2025-10-22 18:55:03 -0400 (Wed, 22 Oct 2025) EndedAt: 2025-10-22 18:58:13 -0400 (Wed, 22 Oct 2025) EllapsedTime: 190.2 seconds RetCode: 0 Status: OK PackageFile: MSnbase_2.35.2.tar.gz PackageFileSize: 7.628 MiB