Package: MSnbase Version: 2.35.2 Command: /Library/Frameworks/R.framework/Resources/bin/R CMD INSTALL MSnbase StartedAt: 2025-10-20 15:34:25 -0400 (Mon, 20 Oct 2025) EndedAt: 2025-10-20 15:36:10 -0400 (Mon, 20 Oct 2025) EllapsedTime: 105.5 seconds RetCode: 0 Status: OK