Package: MSnbase Version: 2.35.2 Command: /Library/Frameworks/R.framework/Resources/bin/R CMD check --install=check:MSnbase.install-out.txt --library=/Library/Frameworks/R.framework/Resources/library --no-vignettes --timings MSnbase_2.35.2.tar.gz StartedAt: 2025-10-21 00:06:07 -0400 (Tue, 21 Oct 2025) EndedAt: 2025-10-21 00:24:55 -0400 (Tue, 21 Oct 2025) EllapsedTime: 1127.5 seconds RetCode: 0 Status: OK CheckDir: MSnbase.Rcheck Warnings: 0