Package: MSnbase Version: 2.35.2 Command: /Library/Frameworks/R.framework/Resources/bin/R CMD check --install=check:MSnbase.install-out.txt --library=/Library/Frameworks/R.framework/Resources/library --no-vignettes --timings MSnbase_2.35.2.tar.gz StartedAt: 2025-10-20 20:54:30 -0400 (Mon, 20 Oct 2025) EndedAt: 2025-10-20 21:01:05 -0400 (Mon, 20 Oct 2025) EllapsedTime: 394.9 seconds RetCode: 0 Status: OK CheckDir: MSnbase.Rcheck Warnings: 0