Package: MSnID Version: 1.44.0 Command: /Library/Frameworks/R.framework/Resources/bin/R CMD build --keep-empty-dirs --no-resave-data MSnID StartedAt: 2025-11-10 17:08:56 -0500 (Mon, 10 Nov 2025) EndedAt: 2025-11-10 17:09:52 -0500 (Mon, 10 Nov 2025) EllapsedTime: 56.6 seconds RetCode: 0 Status: OK PackageFile: MSnID_1.44.0.tar.gz PackageFileSize: 3.003 MiB