Package: MSnID Version: 1.44.0 Command: /Library/Frameworks/R.framework/Resources/bin/R CMD check --install=check:MSnID.install-out.txt --library=/Library/Frameworks/R.framework/Resources/library --no-vignettes --timings MSnID_1.44.0.tar.gz StartedAt: 2025-11-18 09:43:06 -0500 (Tue, 18 Nov 2025) EndedAt: 2025-11-18 09:46:48 -0500 (Tue, 18 Nov 2025) EllapsedTime: 222.7 seconds RetCode: 1 Status: ERROR CheckDir: MSnID.Rcheck Warnings: NA