Package: MSnID Version: 1.44.0 Command: /Library/Frameworks/R.framework/Resources/bin/R CMD build --keep-empty-dirs --no-resave-data MSnID StartedAt: 2025-11-17 23:08:53 -0500 (Mon, 17 Nov 2025) EndedAt: 2025-11-17 23:09:58 -0500 (Mon, 17 Nov 2025) EllapsedTime: 64.6 seconds RetCode: 0 Status: OK PackageFile: MSnID_1.44.0.tar.gz PackageFileSize: 3.003 MiB