Package: MSnID Version: 1.44.0 Command: rm -rf MSnID.buildbin-libdir && mkdir MSnID.buildbin-libdir && /Users/biocbuild/BBS/utils/build-universal.sh MSnID_1.44.0.tar.gz /Library/Frameworks/R.framework/Resources/bin/R MSnID.buildbin-libdir StartedAt: 2025-11-18 15:58:53 -0500 (Tue, 18 Nov 2025) EndedAt: 2025-11-18 15:59:19 -0500 (Tue, 18 Nov 2025) EllapsedTime: 26.3 seconds RetCode: 0 Status: OK PackageFile: MSnID_1.44.0.tgz PackageFileSize: 4.11 MiB