Package: MSPrep Version: 1.19.0 Command: /home/biocbuild/R/R/bin/R CMD INSTALL MSPrep StartedAt: 2025-10-16 22:25:04 -0000 (Thu, 16 Oct 2025) EndedAt: 2025-10-16 22:25:48 -0000 (Thu, 16 Oct 2025) EllapsedTime: 44.4 seconds RetCode: 0 Status: OK