Package: MSPrep Version: 1.19.0 Command: F:\biocbuild\bbs-3.22-bioc\R\bin\R.exe CMD INSTALL MSPrep StartedAt: 2025-08-14 17:03:06 -0400 (Thu, 14 Aug 2025) EndedAt: 2025-08-14 17:03:49 -0400 (Thu, 14 Aug 2025) EllapsedTime: 43.0 seconds RetCode: 0 Status: OK