Package: MSPrep Version: 1.19.0 Command: /Library/Frameworks/R.framework/Resources/bin/R CMD build --keep-empty-dirs --no-resave-data MSPrep StartedAt: 2025-10-19 18:21:29 -0400 (Sun, 19 Oct 2025) EndedAt: 2025-10-19 18:24:40 -0400 (Sun, 19 Oct 2025) EllapsedTime: 190.6 seconds RetCode: 0 Status: OK PackageFile: MSPrep_1.19.0.tar.gz PackageFileSize: 1.574 MiB