Package: MSPrep Version: 1.19.0 Command: /Library/Frameworks/R.framework/Resources/bin/R CMD INSTALL MSPrep StartedAt: 2025-10-19 15:31:21 -0400 (Sun, 19 Oct 2025) EndedAt: 2025-10-19 15:31:36 -0400 (Sun, 19 Oct 2025) EllapsedTime: 14.3 seconds RetCode: 0 Status: OK