Package: MSPrep Version: 1.19.0 Command: /Library/Frameworks/R.framework/Resources/bin/R CMD check --install=check:MSPrep.install-out.txt --library=/Library/Frameworks/R.framework/Resources/library --no-vignettes --timings MSPrep_1.19.0.tar.gz StartedAt: 2025-10-19 20:53:17 -0400 (Sun, 19 Oct 2025) EndedAt: 2025-10-19 20:56:17 -0400 (Sun, 19 Oct 2025) EllapsedTime: 180.0 seconds RetCode: 1 Status: ERROR CheckDir: MSPrep.Rcheck Warnings: NA