Package: MSPrep Version: 1.19.0 Command: rm -rf MSPrep.buildbin-libdir && mkdir MSPrep.buildbin-libdir && /Users/biocbuild/BBS/utils/build-universal.sh MSPrep_1.19.0.tar.gz /Library/Frameworks/R.framework/Resources/bin/R MSPrep.buildbin-libdir StartedAt: 2025-10-19 23:07:53 -0400 (Sun, 19 Oct 2025) EndedAt: 2025-10-19 23:08:08 -0400 (Sun, 19 Oct 2025) EllapsedTime: 15.3 seconds RetCode: 0 Status: OK PackageFile: MSPrep_1.19.0.tgz PackageFileSize: 1.637 MiB