Package: MPFE Version: 1.45.0 Command: /Library/Frameworks/R.framework/Resources/bin/R CMD INSTALL MPFE StartedAt: 2025-10-02 15:04:07 -0400 (Thu, 02 Oct 2025) EndedAt: 2025-10-02 15:04:27 -0400 (Thu, 02 Oct 2025) EllapsedTime: 20.3 seconds RetCode: 0 Status: OK