Package: MPFE Version: 1.45.0 Command: rm -rf MPFE.buildbin-libdir && mkdir MPFE.buildbin-libdir && /Users/biocbuild/BBS/utils/build-universal.sh MPFE_1.45.0.tar.gz /Library/Frameworks/R.framework/Resources/bin/R MPFE.buildbin-libdir StartedAt: 2025-10-04 02:16:48 -0400 (Sat, 04 Oct 2025) EndedAt: 2025-10-04 02:16:53 -0400 (Sat, 04 Oct 2025) EllapsedTime: 5.7 seconds RetCode: 0 Status: OK PackageFile: MPFE_1.45.0.tgz PackageFileSize: 216.8 KiB