Package: MPFE Version: 1.45.0 Command: /Library/Frameworks/R.framework/Resources/bin/R CMD check --install=check:MPFE.install-out.txt --library=/Library/Frameworks/R.framework/Resources/library --no-vignettes --timings MPFE_1.45.0.tar.gz StartedAt: 2025-10-03 20:34:05 -0400 (Fri, 03 Oct 2025) EndedAt: 2025-10-03 20:34:16 -0400 (Fri, 03 Oct 2025) EllapsedTime: 11.1 seconds RetCode: 0 Status: OK CheckDir: MPFE.Rcheck Warnings: 0