Package: MPAC Version: 1.4.0 Command: /home/biocbuild/R/R/bin/R CMD build --keep-empty-dirs --no-resave-data MPAC StartedAt: 2025-11-14 03:33:42 -0000 (Fri, 14 Nov 2025) EndedAt: 2025-11-14 03:35:07 -0000 (Fri, 14 Nov 2025) EllapsedTime: 85.0 seconds RetCode: 0 Status: OK PackageFile: MPAC_1.4.0.tar.gz PackageFileSize: 911.7 KiB