Package: MPAC Version: 1.4.0 Command: /home/biocbuild/bbs-3.22-bioc/R/bin/R CMD INSTALL MPAC StartedAt: 2025-11-16 16:00:13 -0500 (Sun, 16 Nov 2025) EndedAt: 2025-11-16 16:00:51 -0500 (Sun, 16 Nov 2025) EllapsedTime: 38.6 seconds RetCode: 0 Status: OK