Package: MPAC Version: 1.4.0 Command: /home/biocbuild/bbs-3.22-bioc/R/bin/R CMD check --install=check:MPAC.install-out.txt --library=/home/biocbuild/bbs-3.22-bioc/R/site-library --timings MPAC_1.4.0.tar.gz StartedAt: 2025-11-17 01:54:11 -0500 (Mon, 17 Nov 2025) EndedAt: 2025-11-17 01:59:08 -0500 (Mon, 17 Nov 2025) EllapsedTime: 297.3 seconds RetCode: 0 Status: OK CheckDir: MPAC.Rcheck Warnings: 0